BEGIN:VCALENDAR
VERSION:2.0
PRODID:-//ChamberMaster//Event Calendar 2.0//EN
METHOD:PUBLISH
X-PUBLISHED-TTL:P3D
REFRESH-INTERVAL:P3D
CALSCALE:GREGORIAN
BEGIN:VEVENT
DTSTART:20181212T160000Z
DTEND:20181212T170000Z
X-MICROSOFT-CDO-ALLDAYEVENT:FALSE
SUMMARY:The Living Labyrinth: A-Maz-ing Tales from Ancient Greece
DESCRIPTION:Professional storyteller Barry Stewart Mann makes favorite myths come to life. This event is sponsored by the Moultrie-Colquitt County Library System and the United Way of Colquitt County\, in partnership with the Moultrie-Colquitt County Parks and Recreation Authority.
X-ALT-DESC;FMTTYPE=text/html:Professional storyteller Barry Stewart Mann makes favorite myths come to life. This event is sponsored by the Moultrie-Colquitt County Library System and the United Way of Colquitt County\, in partnership with the Moultrie-Colquitt County Parks and Recreation Authority.
LOCATION:Main Street Park
UID:e.570.9468
SEQUENCE:3
DTSTAMP:20260425T233304Z
URL:http://business.moultriechamber.com/events/details/the-living-labyrinth-a-maz-ing-tales-from-ancient-greece-9468
END:VEVENT

END:VCALENDAR
