BEGIN:VCALENDAR
VERSION:2.0
PRODID:-//ChamberMaster//Event Calendar 2.0//EN
METHOD:PUBLISH
X-PUBLISHED-TTL:P3D
REFRESH-INTERVAL:P3D
CALSCALE:GREGORIAN
BEGIN:VEVENT
DTSTART:20210701T143000Z
DTEND:20210701T160000Z
X-MICROSOFT-CDO-ALLDAYEVENT:FALSE
SUMMARY:The Little Red Hen Makes a Pizza
DESCRIPTION:The Little Red Hen Makes a Pizza Puppet Show-told by Erin Honeycutt
X-ALT-DESC;FMTTYPE=text/html:The Little Red Hen Makes a Pizza Puppet Show-told by Erin Honeycutt
LOCATION:Main Street Park
UID:e.570.11441
SEQUENCE:3
DTSTAMP:20260424T065111Z
URL:http://business.moultriechamber.com/events/details/the-little-red-hen-makes-a-pizza-11441
END:VEVENT

END:VCALENDAR
