BEGIN:VCALENDAR
VERSION:2.0
PRODID:-//ChamberMaster//Event Calendar 2.0//EN
METHOD:PUBLISH
X-PUBLISHED-TTL:P3D
REFRESH-INTERVAL:P3D
CALSCALE:GREGORIAN
BEGIN:VEVENT
DTSTART:20220412T223000Z
DTEND:20220412T230000Z
X-MICROSOFT-CDO-ALLDAYEVENT:FALSE
SUMMARY:The Library’s Second Tuesday Crafters
DESCRIPTION:You are invited to join Melody Jenkins as she leads to create unique treasures on the second Tuesday of each month at 6:00 pm. This group is designed for adults but children third grade and up may attend with a parent. The workshop is free. All materials will be provided but each participant will be asked to pay $5.00 for supplies for each project. Reservations for each meeting are requested by the Thursday before the meeting on Tuesday so that supplies may be prepared for all who attend.
X-ALT-DESC;FMTTYPE=text/html:You are invited to join Melody Jenkins as she leads to create unique treasures on the second Tuesday of each month at 6:00 pm. This group is designed for adults but children third grade and up may attend with a parent. The workshop is free. All materials will be provided but each participant will be asked to pay $5.00 for supplies for each project. Reservations for each meeting are requested by the Thursday before the meeting on Tuesday so that supplies may be prepared for all who attend.
LOCATION:Moultrie-Colquitt Library System 504 5th Street\, SE Moultrie\, Ga.
UID:e.570.11998
SEQUENCE:3
DTSTAMP:20260423T204806Z
URL:http://business.moultriechamber.com/events/details/the-library-s-second-tuesday-crafters-04-12-2022-11998
END:VEVENT

END:VCALENDAR
