BEGIN:VCALENDAR
VERSION:2.0
PRODID:-//ChamberMaster//Event Calendar 2.0//EN
METHOD:PUBLISH
X-PUBLISHED-TTL:P3D
REFRESH-INTERVAL:P3D
CALSCALE:GREGORIAN
BEGIN:VEVENT
DTSTART:20180814T220000Z
DTEND:20180814T233000Z
X-MICROSOFT-CDO-ALLDAYEVENT:FALSE
SUMMARY:The Library’s 2nd Tuesday Crafters Club
DESCRIPTION:This group is perfect for the casual crafter who enjoys doing something new each month. Activities are designed for adults but children third grade and up may attend with a parent. Each participant will be asked to pay a $5 fee for supplies per craft. Reservations for each meeting are required due to limited seating in our temporary location. Craft: Faux Dichromatic Glass and Leaf Print Stationary
X-ALT-DESC;FMTTYPE=text/html:This group is perfect for the casual crafter who enjoys doing something new each month. Activities are designed for adults but children third grade and up may attend with a parent. Each participant will be asked to pay a $5 fee for supplies per craft. Reservations for each meeting are required due to limited seating in our temporary location. Craft: Faux Dichromatic Glass and Leaf Print Stationary
LOCATION:Moultrie Library\, 225 S. Main St\, Moultrie (Temporary Location)
UID:e.570.9368
SEQUENCE:3
DTSTAMP:20260426T032625Z
URL:http://business.moultriechamber.com/events/details/the-library-s-2nd-tuesday-crafters-club-08-14-2018-9368
END:VEVENT

END:VCALENDAR
