BEGIN:VCALENDAR
VERSION:2.0
PRODID:-//ChamberMaster//Event Calendar 2.0//EN
METHOD:PUBLISH
X-PUBLISHED-TTL:P3D
REFRESH-INTERVAL:P3D
CALSCALE:GREGORIAN
BEGIN:VEVENT
DTSTART:20190217T000000Z
DTEND:20190217T013000Z
X-MICROSOFT-CDO-ALLDAYEVENT:FALSE
SUMMARY:The Cemetery Club Performance
DESCRIPTION:The Cemetery Club Friday & Saturday\, February 15th & 16th at 7:00 pm Sunday\, February 17th at 2:00pm Tickets $10 (available to purchase at the Arts Center) The delightful comedy is the story of three Jewish widows who meet once a month for tea before going to visit their husbands' graves. Ida is sweet tempered and ready to begin a new life\; Lucille is a feisty embodiment of the girl who just wants to have fun\; and Doris is priggish and judgmental\, particularly when Sam the butcher enters the scene. He meets the widows while visiting his wife's grave. Doris and Lucille squash the budding romance between Sam and Ida\, They are guilt-stricken when this nearly breaks Ida's heart.
X-ALT-DESC;FMTTYPE=text/html:The Cemetery Club Friday &amp\; Saturday\, February 15th &amp\; 16th at 7:00 pm Sunday\, February 17th at 2:00pm Tickets $10 (available to purchase at the Arts Center) The delightful comedy is the story of three Jewish widows who meet once a month for tea before going to visit their husbands&rsquo\; graves. Ida is sweet tempered and ready to begin a new life\; Lucille is a feisty embodiment of the girl who just wants to have fun\; and Doris is priggish and judgmental\, particularly when Sam the butcher enters the scene. He meets the widows while visiting his wife&rsquo\;s grave. Doris and Lucille squash the budding romance between Sam and Ida\, They are guilt-stricken when this nearly breaks Ida&rsquo\;s heart.
LOCATION:Colquitt County Arts Center 401 7th Avenue S.W. Moultrie\, GA 31768
UID:e.570.9487
SEQUENCE:3
DTSTAMP:20260425T191120Z
URL:http://business.moultriechamber.com/events/details/the-cemetery-club-performance-02-16-2019-9487
END:VEVENT

END:VCALENDAR
