BEGIN:VCALENDAR
VERSION:2.0
PRODID:-//ChamberMaster//Event Calendar 2.0//EN
METHOD:PUBLISH
X-PUBLISHED-TTL:P3D
REFRESH-INTERVAL:P3D
CALSCALE:GREGORIAN
BEGIN:VEVENT
DTSTART:20180703T220000Z
DTEND:20180703T230000Z
X-MICROSOFT-CDO-ALLDAYEVENT:FALSE
SUMMARY:The Art of Stained Glass
DESCRIPTION:The Art of Stained Glass Tuesdays\, 3rd   24th 6:00 pm   7:00 pm or Wednesdays\, 4th   25th 10:30 am   11:30 am $80 includes supplies Choose your favorite colors of glass. Cut\, grind and add copper foiling to create your own unique design. Work at your own pace with the help of Connie Fritz who will teach you process and tools.
X-ALT-DESC;FMTTYPE=text/html:The Art of Stained Glass Tuesdays\, 3rd &ndash\; 24th 6:00 pm &ndash\; 7:00 pm or Wednesdays\, 4th &ndash\; 25th 10:30 am &ndash\; 11:30 am $80 includes supplies Choose your favorite colors of glass. Cut\, grind and add copper foiling to create your own unique design. Work at your own pace with the help of Connie Fritz who will teach you process and tools.
LOCATION:Colquitt County Arts Center\, 401 7th Avenue S.W.\, Moultrie\, GA 31768
UID:e.570.9280
SEQUENCE:3
DTSTAMP:20260426T044052Z
URL:http://business.moultriechamber.com/events/details/the-art-of-stained-glass-9280
END:VEVENT

END:VCALENDAR
