BEGIN:VCALENDAR
VERSION:2.0
PRODID:-//ChamberMaster//Event Calendar 2.0//EN
METHOD:PUBLISH
X-PUBLISHED-TTL:P3D
REFRESH-INTERVAL:P3D
CALSCALE:GREGORIAN
BEGIN:VEVENT
DTSTART:20201203T233000Z
DTEND:20201204T010000Z
X-MICROSOFT-CDO-ALLDAYEVENT:FALSE
SUMMARY:The Art of Calligraphy
DESCRIPTION:Learn the basics of elegant handwriting with this beginner's calligraphy workshop just in time to address those Christmas cards! If you already have a pen set bring it with you. If you need one provided please add $15 to the cost of the workshop. Sign up online https://colquittcountyarts.com/monthly-workshop-registration/ Thursday\, December 3\, 2020 6:30 pm   8:00 pm $30 person ages 15+ Optional $15 for calligraphy kit Instructor: Connie Fritz
X-ALT-DESC;FMTTYPE=text/html:Learn the basics of elegant handwriting with this beginner&rsquo\;s calligraphy workshop just in time to address those Christmas cards! If you already have a pen set bring it with you. If you need one provided please add $15 to the cost of the workshop. Sign up online https://colquittcountyarts.com/monthly-workshop-registration/ Thursday\, December 3\, 2020 6:30 pm &ndash\; 8:00 pm $30 person ages 15+ Optional $15 for calligraphy kit Instructor: Connie Fritz
LOCATION:Colquitt County Arts Center 401 7th Avenue S.W. Moultrie\, GA 31768
UID:e.570.11247
SEQUENCE:3
DTSTAMP:20260424T163400Z
URL:http://business.moultriechamber.com/events/details/the-art-of-calligraphy-11247
END:VEVENT

END:VCALENDAR
