BEGIN:VCALENDAR
VERSION:2.0
PRODID:-//ChamberMaster//Event Calendar 2.0//EN
METHOD:PUBLISH
X-PUBLISHED-TTL:P3D
REFRESH-INTERVAL:P3D
CALSCALE:GREGORIAN
BEGIN:VEVENT
DTSTART:20181002T143000Z
DTEND:20181030T163000Z
X-MICROSOFT-CDO-ALLDAYEVENT:FALSE
SUMMARY:The Art of Basket Weaving
DESCRIPTION:Learn the basics of basket weaving so that you can carry the information and skills beyond the classroom and continue to create your own baskets and woven items at home. Students will create baskets and woven ornaments that can be used in the bases of baskets. Instructor Virigina Lowman.
X-ALT-DESC;FMTTYPE=text/html:Learn the basics of basket weaving so that you can carry the information and skills beyond the classroom and continue to create your own baskets and woven items at home. Students will create baskets and woven ornaments that can be used in the bases of baskets. Instructor Virigina Lowman.
LOCATION:Colquitt County Arts Center\, 401 7th Avenue S.W.\, Moultrie\, GA 31768
UID:e.570.9411
SEQUENCE:3
DTSTAMP:20260426T005511Z
URL:http://business.moultriechamber.com/events/details/the-art-of-basket-weaving-9411
END:VEVENT

END:VCALENDAR
