BEGIN:VCALENDAR
VERSION:2.0
PRODID:-//ChamberMaster//Event Calendar 2.0//EN
METHOD:PUBLISH
X-PUBLISHED-TTL:P3D
REFRESH-INTERVAL:P3D
CALSCALE:GREGORIAN
BEGIN:VEVENT
DTSTART:20200721T220000Z
DTEND:20200721T233000Z
X-MICROSOFT-CDO-ALLDAYEVENT:FALSE
SUMMARY:That's a Sweet Piece of Art (Online)
DESCRIPTION:Monday\, July 20th Pick Up Materials: 4:30 pm   5:30pm Tuesday\, July 21st Virtual Instruction: 6:00 pm   7:30pm $35 fee includes all materials and an assortment of chocolates Ages 16+ Beginners and pros will enjoy a variety of chocolates while painting an abstract piece on canvas using acrylics\, all from home using our Zoom virtual art classroom. Instructor: Kathy Nelson *Deadline to register is July 17th*
X-ALT-DESC;FMTTYPE=text/html:Monday\, July 20th Pick Up Materials: 4:30 pm &ndash\; 5:30pm Tuesday\, July 21st Virtual Instruction: 6:00 pm &ndash\; 7:30pm $35 fee includes all materials and an assortment of chocolates Ages 16+ Beginners and pros will enjoy a variety of chocolates while painting an abstract piece on canvas using acrylics\, all from home using our Zoom virtual art classroom. Instructor: Kathy Nelson *Deadline to register is July 17th*
LOCATION:Colquitt County Arts Center 401 7th Avenue S.W. Moultrie\, GA 31768
UID:e.570.11165
SEQUENCE:3
DTSTAMP:20260424T212552Z
URL:http://business.moultriechamber.com/events/details/that-s-a-sweet-piece-of-art-online-11165
END:VEVENT

END:VCALENDAR
