BEGIN:VCALENDAR
VERSION:2.0
PRODID:-//ChamberMaster//Event Calendar 2.0//EN
METHOD:PUBLISH
X-PUBLISHED-TTL:P3D
REFRESH-INTERVAL:P3D
CALSCALE:GREGORIAN
BEGIN:VEVENT
DTSTART;VALUE=DATE:20190819
DTEND;VALUE=DATE:20190831
TRANSP:TRANSPARENT
X-MICROSOFT-CDO-ALLDAYEVENT:TRUE
SUMMARY:Tennis Registration
DESCRIPTION:Tennis Registration August 19th - August 30th Starts September 3\, 2019 Ends October 10\, 2019 Tuesday & Thursday 4:00 - 4:30 PM
X-ALT-DESC;FMTTYPE=text/html:Tennis Registration August 19th - August 30th Starts September 3\, 2019 Ends October 10\, 2019 Tuesday &amp\; Thursday 4:00 - 4:30 PM
LOCATION:Register online or at our office\, 1020 4th Street SW Moultrie\, Ga 31768
UID:e.570.9623
SEQUENCE:3
DTSTAMP:20260425T114711Z
URL:http://business.moultriechamber.com/events/details/tennis-registration-08-19-2019-9623
END:VEVENT

END:VCALENDAR
