BEGIN:VCALENDAR
VERSION:2.0
PRODID:-//ChamberMaster//Event Calendar 2.0//EN
METHOD:PUBLISH
X-PUBLISHED-TTL:P3D
REFRESH-INTERVAL:P3D
CALSCALE:GREGORIAN
BEGIN:VEVENT
DTSTART:20210615T213000Z
DTEND:20210615T223000Z
X-MICROSOFT-CDO-ALLDAYEVENT:FALSE
SUMMARY:Teens Paint: Hipster Bear
DESCRIPTION:"Bear" with us as we paint this adorable hipster bear! For ages 11 to 17.
X-ALT-DESC;FMTTYPE=text/html:&quot\;Bear&quot\; with us as we paint this adorable hipster bear! For ages 11 to 17.
LOCATION:Free
UID:e.570.11427
SEQUENCE:3
DTSTAMP:20260424T081021Z
URL:http://business.moultriechamber.com/events/details/teens-paint-hipster-bear-11427
END:VEVENT

END:VCALENDAR
