BEGIN:VCALENDAR
VERSION:2.0
PRODID:-//ChamberMaster//Event Calendar 2.0//EN
METHOD:PUBLISH
X-PUBLISHED-TTL:P3D
REFRESH-INTERVAL:P3D
CALSCALE:GREGORIAN
BEGIN:VEVENT
DTSTART:20210629T213000Z
DTEND:20210629T223000Z
X-MICROSOFT-CDO-ALLDAYEVENT:FALSE
SUMMARY:Teens Craft: Socktopus
DESCRIPTION:Teens make a cute stuffed octopus from a sock. Ages 11 to 17. Materials provided.
X-ALT-DESC;FMTTYPE=text/html:Teens make a cute stuffed octopus from a sock. Ages 11 to 17. Materials provided.
LOCATION:Moultrie Library\,204 5th St SE\, Moultrie\, GA 31768.
UID:e.570.11426
SEQUENCE:3
DTSTAMP:20260424T080928Z
URL:http://business.moultriechamber.com/events/details/teens-craft-socktopus-11426
END:VEVENT

END:VCALENDAR
