BEGIN:VCALENDAR
VERSION:2.0
PRODID:-//ChamberMaster//Event Calendar 2.0//EN
METHOD:PUBLISH
X-PUBLISHED-TTL:P3D
REFRESH-INTERVAL:P3D
CALSCALE:GREGORIAN
BEGIN:VEVENT
DTSTART:20210316T200000Z
DTEND:20210316T210000Z
X-MICROSOFT-CDO-ALLDAYEVENT:FALSE
SUMMARY:Tattoo Inspired Art Workshop
DESCRIPTION:Learn step-by-step the art of FLASH drawing to create artwork that is inspired by old-school tattoos. Adults and teens will enjoy this fun exercise of drawing in classic styles that have been appreciated for decades. Ages 15+ Instructor Rio Davies
X-ALT-DESC;FMTTYPE=text/html:Learn step-by-step the art of FLASH drawing to create artwork that is inspired by old-school tattoos. Adults and teens will enjoy this fun exercise of drawing in classic styles that have been appreciated for decades. Ages 15+ Instructor Rio Davies
LOCATION:Colquitt County Arts Center 401 7th Avenue S.W. Moultrie\, GA 31768
UID:e.570.11330
SEQUENCE:3
DTSTAMP:20260424T113918Z
URL:http://business.moultriechamber.com/events/details/tattoo-inspired-art-workshop-11330
END:VEVENT

END:VCALENDAR
