BEGIN:VCALENDAR
VERSION:2.0
PRODID:-//ChamberMaster//Event Calendar 2.0//EN
METHOD:PUBLISH
X-PUBLISHED-TTL:P3D
REFRESH-INTERVAL:P3D
CALSCALE:GREGORIAN
BEGIN:VEVENT
DTSTART:20180919T150000Z
DTEND:20180919T160000Z
X-MICROSOFT-CDO-ALLDAYEVENT:FALSE
SUMMARY:Talk Like a Pirate Day with Sean Driscoll and the Story Ship
DESCRIPTION:Dress in your best pirate gear and come along with Pirate Goodie on an amazing undersea adventure that features a giant video screen with colorful animations\, charming puppets\, hilarious comedy\, and fun filled magic. Free and open to the public. Sponsored by the Moultrie-Colquitt County Library System and the United Way of Colquitt County\, in partnership with the Moultrie-Colquitt County Parks & Recreation Authority. Call 229-985-6540 for more information.
X-ALT-DESC;FMTTYPE=text/html:Dress in your best pirate gear and come along with Pirate Goodie on an amazing undersea adventure that features a giant video screen with colorful animations\, charming puppets\, hilarious comedy\, and fun filled magic. Free and open to the public. Sponsored by the Moultrie-Colquitt County Library System and the United Way of Colquitt County\, in partnership with the Moultrie-Colquitt County Parks &amp\; Recreation Authority. Call 229-985-6540 for more information.
LOCATION:Main Street Park
UID:e.570.9403
SEQUENCE:3
DTSTAMP:20260426T021358Z
URL:http://business.moultriechamber.com/events/details/talk-like-a-pirate-day-with-sean-driscoll-and-the-story-ship-9403
END:VEVENT

END:VCALENDAR
