BEGIN:VCALENDAR
VERSION:2.0
PRODID:-//ChamberMaster//Event Calendar 2.0//EN
METHOD:PUBLISH
X-PUBLISHED-TTL:P3D
REFRESH-INTERVAL:P3D
CALSCALE:GREGORIAN
BEGIN:VEVENT
DTSTART:20210624T140000Z
DTEND:20210624T150000Z
X-MICROSOFT-CDO-ALLDAYEVENT:FALSE
SUMMARY:Tales with Tails-Animals out of Control
DESCRIPTION:Join Ventriloquist-Comedian Gene Cordova for Tales with Tails
X-ALT-DESC;FMTTYPE=text/html:Join Ventriloquist-Comedian Gene Cordova for Tales with Tails
LOCATION:Main Street Park
UID:e.570.11439
SEQUENCE:3
DTSTAMP:20260424T080206Z
URL:http://business.moultriechamber.com/events/details/tales-with-tails-animals-out-of-control-11439
END:VEVENT

END:VCALENDAR
