BEGIN:VCALENDAR
VERSION:2.0
PRODID:-//ChamberMaster//Event Calendar 2.0//EN
METHOD:PUBLISH
X-PUBLISHED-TTL:P3D
REFRESH-INTERVAL:P3D
CALSCALE:GREGORIAN
BEGIN:VEVENT
DTSTART:20210722T114500Z
DTEND:20210722T150000Z
X-MICROSOFT-CDO-ALLDAYEVENT:FALSE
SUMMARY:Sunbelt Ag Expo Field Day
DESCRIPTION:Join us for a 1/2 Day Tour of the Sunbelt Ag Expo Research Farm. Visit with UGA Extension Researchers and Ag Company Reps to review the latest technology on the market.
X-ALT-DESC;FMTTYPE=text/html:Join us for a 1/2 Day Tour of the Sunbelt Ag Expo Research Farm. Visit with UGA Extension Researchers and Ag Company Reps to review the latest technology on the market.
LOCATION:Spence Field: Moultrie\, GA
UID:e.570.11312
SEQUENCE:3
DTSTAMP:20260424T065111Z
URL:http://business.moultriechamber.com/events/details/sunbelt-ag-expo-field-day-11312
END:VEVENT

END:VCALENDAR
