BEGIN:VCALENDAR
VERSION:2.0
PRODID:-//ChamberMaster//Event Calendar 2.0//EN
METHOD:PUBLISH
X-PUBLISHED-TTL:P3D
REFRESH-INTERVAL:P3D
CALSCALE:GREGORIAN
BEGIN:VEVENT
DTSTART:20210629T140000Z
DTEND:20210629T150000Z
X-MICROSOFT-CDO-ALLDAYEVENT:FALSE
SUMMARY:Summer Strumming @ Main Street Park
DESCRIPTION:Bring your own uke or use one of theirs'. We'll practice strumming and basic chords with simple well-known tunes.
X-ALT-DESC;FMTTYPE=text/html:Bring your own uke or use one of theirs&#39\;. We&#39\;ll practice strumming and basic chords with simple well-known tunes.
LOCATION:Main Street Park
UID:e.570.11440
SEQUENCE:3
DTSTAMP:20260424T075953Z
URL:http://business.moultriechamber.com/events/details/summer-strumming-main-street-park-11440
END:VEVENT

END:VCALENDAR
