BEGIN:VCALENDAR
VERSION:2.0
PRODID:-//ChamberMaster//Event Calendar 2.0//EN
METHOD:PUBLISH
X-PUBLISHED-TTL:P3D
REFRESH-INTERVAL:P3D
CALSCALE:GREGORIAN
BEGIN:VEVENT
DTSTART:20220616T140000Z
DTEND:20220616T170000Z
X-MICROSOFT-CDO-ALLDAYEVENT:FALSE
SUMMARY:Summer Art Series Drawing/Painting
DESCRIPTION:Beginner's drawing and painting for teens and adults.
X-ALT-DESC;FMTTYPE=text/html:Beginner&#39\;s drawing and painting for teens and adults.
LOCATION:Indigo Studio 128 S. Main St.
UID:e.570.12087
SEQUENCE:3
DTSTAMP:20260423T182105Z
URL:http://business.moultriechamber.com/events/details/summer-art-series-drawing-painting-06-16-2022-12087
END:VEVENT

END:VCALENDAR
