BEGIN:VCALENDAR
VERSION:2.0
PRODID:-//ChamberMaster//Event Calendar 2.0//EN
METHOD:PUBLISH
X-PUBLISHED-TTL:P3D
REFRESH-INTERVAL:P3D
CALSCALE:GREGORIAN
BEGIN:VEVENT
DTSTART:20190504T130000Z
DTEND:20190504T160000Z
X-MICROSOFT-CDO-ALLDAYEVENT:FALSE
SUMMARY:Students of Jimmy Norris Recital
DESCRIPTION:Saturday\, May 4th 9:00 am   12:00 pm FREE Admission Performance by Arts Center piano and voice students.
X-ALT-DESC;FMTTYPE=text/html:Saturday\, May 4th 9:00 am &ndash\; 12:00 pm FREE Admission Performance by Arts Center piano and voice students.
LOCATION:Colquitt County Arts Center 401 7th Ave. SW
UID:e.570.9531
SEQUENCE:3
DTSTAMP:20260425T154044Z
URL:http://business.moultriechamber.com/events/details/students-of-jimmy-norris-recital-05-04-2019-9531
END:VEVENT

END:VCALENDAR
