BEGIN:VCALENDAR
VERSION:2.0
PRODID:-//ChamberMaster//Event Calendar 2.0//EN
METHOD:PUBLISH
X-PUBLISHED-TTL:P3D
REFRESH-INTERVAL:P3D
CALSCALE:GREGORIAN
BEGIN:VEVENT
DTSTART:20210607T140000Z
DTEND:20210611T180000Z
X-MICROSOFT-CDO-ALLDAYEVENT:FALSE
SUMMARY:Strings Summer Music Camp
DESCRIPTION:Taking place from June 7th to June 11th\, the Colquitt Arts Center Strings Summer Camp provides musical instruction for students of all levels ages 6-16. The young musicians will develop their musical skills and knowledge through orchestra and chamber music playing\, and music appreciation sessions. At our music camp\, students will develop their talents build friendships\, and have fun! 6   16 years old $100 **Bring your own Violin** Instructor Oana Potur
X-ALT-DESC;FMTTYPE=text/html:Taking place from June 7th to June 11th\, the Colquitt Arts Center Strings Summer Camp provides musical instruction for students of all levels ages 6-16. The young musicians will develop their musical skills and knowledge through orchestra and chamber music playing\, and music appreciation sessions. At our music camp\, students will develop their talents build friendships\, and have fun! 6 &ndash\; 16 years old $100 **Bring your own Violin** Instructor Oana Potur
LOCATION:Colquitt County Arts Center 401 7th Avenue S.W. Moultrie\, GA 31768
UID:e.570.11352
SEQUENCE:3
DTSTAMP:20260424T075029Z
URL:http://business.moultriechamber.com/events/details/strings-summer-music-camp-11352
END:VEVENT

END:VCALENDAR
