BEGIN:VCALENDAR
VERSION:2.0
PRODID:-//ChamberMaster//Event Calendar 2.0//EN
METHOD:PUBLISH
X-PUBLISHED-TTL:P3D
REFRESH-INTERVAL:P3D
CALSCALE:GREGORIAN
BEGIN:VEVENT
DTSTART:20200219T000000Z
DTEND:20200219T020000Z
X-MICROSOFT-CDO-ALLDAYEVENT:FALSE
SUMMARY:Strings & Keys
DESCRIPTION:An Evening with internationally renowned violinist William Hagen and pianist Albert Smit. Sponsored by Colquitt County Arts Center. Made possible by a grant from the National Endowment for the Arts.
X-ALT-DESC;FMTTYPE=text/html:An Evening with internationally renowned violinist William Hagen and pianist Albert Smit. Sponsored by Colquitt County Arts Center. Made possible by a grant from the National Endowment for the Arts.
LOCATION:Trinity Baptist Church Moultrie\, Georgia
UID:e.570.11133
SEQUENCE:3
DTSTAMP:20260425T035717Z
URL:http://business.moultriechamber.com/events/details/strings-keys-11133
END:VEVENT

END:VCALENDAR
