BEGIN:VCALENDAR
VERSION:2.0
PRODID:-//ChamberMaster//Event Calendar 2.0//EN
METHOD:PUBLISH
X-PUBLISHED-TTL:P3D
REFRESH-INTERVAL:P3D
CALSCALE:GREGORIAN
BEGIN:VEVENT
DTSTART:20200219T000000Z
DTEND:20200219T013000Z
X-MICROSOFT-CDO-ALLDAYEVENT:FALSE
SUMMARY:Strings and Keys Concert
DESCRIPTION:Strings and Keys An Evening with William Hagen and Albert Smit Tuesday\, February 18th 7:00 pm Trinity Baptist Church 201 12th Ave SE\, Moultrie\, GA 31768 Tickets $15 Renowned Violinist William Hagen\, performs in an album promotion event for "Danse Russe" with Albert Cano Smit piano accompaniment. This project is supported in part by the National Endowment for the Arts. To find out more about how National Endowment for the Arts grants impact individuals and communities\, visit www.arts.gov.
X-ALT-DESC;FMTTYPE=text/html:Strings and Keys An Evening with William Hagen and Albert Smit Tuesday\, February&nbsp\;18th&nbsp\;7:00 pm Trinity Baptist Church 201 12th Ave SE\, Moultrie\, GA 31768 Tickets $15 Renowned Violinist William Hagen\, performs in an album promotion event for &ldquo\;Danse Russe&rdquo\; with Albert Cano Smit piano accompaniment. This project is supported in part by the National Endowment for the Arts.&nbsp\;To find out more about how National Endowment for the Arts grants impact individuals and communities\, visit&nbsp\;www.arts.gov.
LOCATION:Trinity Baptist Church 201 12th Ave SE\, Moultrie\, GA 31768
UID:e.570.11125
SEQUENCE:3
DTSTAMP:20260425T040407Z
URL:http://business.moultriechamber.com/events/details/strings-and-keys-concert-11125
END:VEVENT

END:VCALENDAR
