BEGIN:VCALENDAR
VERSION:2.0
PRODID:-//ChamberMaster//Event Calendar 2.0//EN
METHOD:PUBLISH
X-PUBLISHED-TTL:P3D
REFRESH-INTERVAL:P3D
CALSCALE:GREGORIAN
BEGIN:VEVENT
DTSTART:20190223T140000Z
DTEND:20190223T210000Z
X-MICROSOFT-CDO-ALLDAYEVENT:FALSE
SUMMARY:Stringing it Along
DESCRIPTION:Stringing it Along Saturday\, February 23rd 9 am - 4 pm $15 covers refreshments and lunch Bring all your leftover strips\, squares and triangles from previous projects for a Saturday of creativity and be prepared to share your scraps. You will also want to bring your sewing machine and scissors or cutting mat and tools. You will want to pre-cut 8 1/2inch base squares out of muslin or other light fabric.
X-ALT-DESC;FMTTYPE=text/html:Stringing it Along Saturday\, February 23rd 9 am - 4 pm $15 covers refreshments and lunch Bring all your leftover strips\, squares and triangles from previous projects for a Saturday of creativity and be prepared to share your scraps. You will also want to bring your sewing machine and scissors or cutting mat and tools. You will want to pre-cut 8 1/2inch base squares out of muslin or other light fabric.
LOCATION:Colquitt County Arts Center 401 7th Avenue S.W. Moultrie\, GA 31768
UID:e.570.9490
SEQUENCE:3
DTSTAMP:20260425T190700Z
URL:http://business.moultriechamber.com/events/details/stringing-it-along-9490
END:VEVENT

END:VCALENDAR
