BEGIN:VCALENDAR
VERSION:2.0
PRODID:-//ChamberMaster//Event Calendar 2.0//EN
METHOD:PUBLISH
X-PUBLISHED-TTL:P3D
REFRESH-INTERVAL:P3D
CALSCALE:GREGORIAN
BEGIN:VEVENT
DTSTART:20181207T210000Z
DTEND:20181207T220000Z
X-MICROSOFT-CDO-ALLDAYEVENT:FALSE
SUMMARY:Storytime with Santa
DESCRIPTION:Experience the wonder of Santa and discover the secrets of the North Pole in this story time with Santa! Be sure to bring your camera for pictures! This event is being sponsored by the Moultrie-Colquitt County Library System and the United Way of Colquitt County\, in partnership with the Moultrie-Colquitt County Parks and Recreation Authority.
X-ALT-DESC;FMTTYPE=text/html:Experience the wonder of Santa and discover the secrets of the North Pole in this story time with Santa! Be sure to bring your camera for pictures! This event is being sponsored by the Moultrie-Colquitt County Library System and the United Way of Colquitt County\, in partnership with the Moultrie-Colquitt County Parks and Recreation Authority.
LOCATION:Ryce Community Center
UID:e.570.9467
SEQUENCE:3
DTSTAMP:20260425T220208Z
URL:http://business.moultriechamber.com/events/details/storytime-with-santa-12-07-2018-9467
END:VEVENT

END:VCALENDAR
