BEGIN:VCALENDAR
VERSION:2.0
PRODID:-//ChamberMaster//Event Calendar 2.0//EN
METHOD:PUBLISH
X-PUBLISHED-TTL:P3D
REFRESH-INTERVAL:P3D
CALSCALE:GREGORIAN
BEGIN:VEVENT
DTSTART:20201107T140000Z
DTEND:20201107T170000Z
X-MICROSOFT-CDO-ALLDAYEVENT:FALSE
SUMMARY:Stocked Cart Race
DESCRIPTION:Come join MCCPRA for its 2nd annual Stocked Cart Race. Each team is given a shopping cart and 20 minutes to decorate their cart in their choice of color and theme. Teams are then matched up in a head to head race to the finish line. Team entry fees are $25.00 worth of food that will be donated to the Colquitt Count Food Bank. Prizes will be awarded to the fastest cart\, the best decorated\, and to the team who donates the most food! Check in at 9:00 AM and races at 10:00 AM. Registration will begin September 1st - November 6th.
X-ALT-DESC;FMTTYPE=text/html:Come join MCCPRA for its 2nd annual Stocked Cart Race. Each team is given a shopping cart and 20 minutes to decorate their cart in their choice of color and theme. Teams are then matched up in a head to head race to the finish line. Team entry fees are $25.00 worth of food that will be donated to the Colquitt Count Food Bank. Prizes will be awarded to the fastest cart\, the best decorated\, and to the team who donates the most food! Check in at 9:00 AM and races at 10:00 AM. Registration will begin September 1st - November 6th.
LOCATION:Lowes
UID:e.570.11204
SEQUENCE:3
DTSTAMP:20260424T163908Z
URL:http://business.moultriechamber.com/events/details/stocked-cart-race-11-07-2020-11204
END:VEVENT

END:VCALENDAR
