BEGIN:VCALENDAR
VERSION:2.0
PRODID:-//ChamberMaster//Event Calendar 2.0//EN
METHOD:PUBLISH
X-PUBLISHED-TTL:P3D
REFRESH-INTERVAL:P3D
CALSCALE:GREGORIAN
BEGIN:VEVENT
DTSTART:20190122T170000Z
DTEND:20190122T180000Z
X-MICROSOFT-CDO-ALLDAYEVENT:FALSE
SUMMARY:Sterling Center Bariatrics Lunch and Learn
DESCRIPTION:Join us for a free lunch and learn! Are you a candidate for the gastric sleeve or gastric bypass procedure? Learn about what to expect after your procedure. Meet Sterling Bariatrics patients who have met their goals. Discuss financing options with our financial coordinator.
X-ALT-DESC;FMTTYPE=text/html:Join us for a free lunch and learn! Are you a candidate for the gastric sleeve or gastric bypass procedure? Learn about what to expect after your procedure. Meet Sterling Bariatrics patients who have met their goals. Discuss financing options with our financial coordinator.
LOCATION:Southern Regional Technical College. 800 N. Veteran's Pkwy\, Moultrie GA
UID:e.570.9475
SEQUENCE:3
DTSTAMP:20260425T204322Z
URL:http://business.moultriechamber.com/events/details/sterling-center-bariatrics-lunch-and-learn-9475
END:VEVENT

END:VCALENDAR
