BEGIN:VCALENDAR
VERSION:2.0
PRODID:-//ChamberMaster//Event Calendar 2.0//EN
METHOD:PUBLISH
X-PUBLISHED-TTL:P3D
REFRESH-INTERVAL:P3D
CALSCALE:GREGORIAN
BEGIN:VEVENT
DTSTART:20190512T180000Z
DTEND:20190512T193000Z
X-MICROSOFT-CDO-ALLDAYEVENT:FALSE
SUMMARY:Steel Magnolias
DESCRIPTION:Friday\, May 10th at 7:00 pm Saturday\, May 11th at 7:00 pm Sunday\, May 12th at 2:00 pm Tickets $10 In a small town in Louisiana\, six women gather at the local beauty salon to share the ups and downs of their lives. Outspoken\, wise-cracking Truvy dispenses shampoo and advice\, with the help of her shy new assistant\, Annelle. Local curmudgeon\, Ouiser\, and eccentric millionaire\, Clairee\, snipe at each other\, while local social leader\, M'lynn plans her daughter Shelby's wedding. When tragedy strikes\, however\, the women pull together in this play about life\, laughter\, love\, loss\, and the inner strength that helps us go on.
X-ALT-DESC;FMTTYPE=text/html:Friday\, May 10th at 7:00 pm Saturday\, May 11th at 7:00 pm Sunday\, May 12th at 2:00 pm Tickets $10 In a small town in Louisiana\, six women gather at the local beauty salon to share the ups and downs of their lives. Outspoken\, wise-cracking Truvy dispenses shampoo and advice\, with the help of her shy new assistant\, Annelle. Local curmudgeon\, Ouiser\, and eccentric millionaire\, Clairee\, snipe at each other\, while local social leader\, M&rsquo\;lynn plans her daughter Shelby&rsquo\;s wedding. When tragedy strikes\, however\, the women pull together in this play about life\, laughter\, love\, loss\, and the inner strength that helps us go on.
LOCATION:Colquitt County Arts Center 401 7th Ave. SW
UID:e.570.9535
SEQUENCE:3
DTSTAMP:20260425T153929Z
URL:http://business.moultriechamber.com/events/details/steel-magnolias-05-12-2019-9535
END:VEVENT

END:VCALENDAR
