BEGIN:VCALENDAR
VERSION:2.0
PRODID:-//ChamberMaster//Event Calendar 2.0//EN
METHOD:PUBLISH
X-PUBLISHED-TTL:P3D
REFRESH-INTERVAL:P3D
CALSCALE:GREGORIAN
BEGIN:VEVENT
DTSTART:20210202T223000Z
DTEND:20210203T003000Z
X-MICROSOFT-CDO-ALLDAYEVENT:FALSE
SUMMARY:Stained Glass Sunrise Panel
DESCRIPTION:In this four-part class of creating a beautiful panel of a sunrise\, participants will learn How to choose glass for a project How to cut and grind the glass How to foil and solder The final step will be creating the zinc fame and adding a chain for hanging. Every Tuesday in February 5:30 pm   7:30 pm $70 all supplies included Ages 16 and older
X-ALT-DESC;FMTTYPE=text/html:In this four-part class of creating a beautiful panel of a sunrise\, participants will learn How to choose glass for a project How to cut and grind the glass How to foil and solder The final step will be creating the zinc fame and adding a chain for hanging. Every Tuesday in February 5:30 pm &ndash\; 7:30 pm $70 all supplies included Ages 16 and older
LOCATION:Colquitt County Arts Center 401 7th Avenue S.W. Moultrie\, GA 31768
UID:e.570.11284
SEQUENCE:3
DTSTAMP:20260424T124142Z
URL:http://business.moultriechamber.com/events/details/stained-glass-sunrise-panel-11284
END:VEVENT

END:VCALENDAR
