BEGIN:VCALENDAR
VERSION:2.0
PRODID:-//ChamberMaster//Event Calendar 2.0//EN
METHOD:PUBLISH
X-PUBLISHED-TTL:P3D
REFRESH-INTERVAL:P3D
CALSCALE:GREGORIAN
BEGIN:VEVENT
DTSTART:20200721T213000Z
DTEND:20200721T230000Z
X-MICROSOFT-CDO-ALLDAYEVENT:FALSE
SUMMARY:Stained Glass Ornaments Workshops
DESCRIPTION:Tuesday\, July 21st 5:30 pm   7:00 pm Ages 12+ $20 Supplies Included *Deadline to register is July 20th* Practice the art of stained glass with an easy light bulb ornament project. You will make 3 ornaments to take home and enjoy. Beginners welcome. Instructor: Connie Fritz
X-ALT-DESC;FMTTYPE=text/html:Tuesday\, July 21st 5:30 pm &ndash\; 7:00 pm Ages 12+ $20 Supplies Included *Deadline to register is July 20th* Practice the art of stained glass with an easy light bulb ornament project. You will make 3 ornaments to take home and enjoy. Beginners welcome. Instructor: Connie Fritz
LOCATION:Colquitt County Arts Center 401 7th Avenue S.W. Moultrie\, GA 31768
UID:e.570.11162
SEQUENCE:3
DTSTAMP:20260424T213400Z
URL:http://business.moultriechamber.com/events/details/stained-glass-ornaments-workshops-11162
END:VEVENT

END:VCALENDAR
