BEGIN:VCALENDAR
VERSION:2.0
PRODID:-//ChamberMaster//Event Calendar 2.0//EN
METHOD:PUBLISH
X-PUBLISHED-TTL:P3D
REFRESH-INTERVAL:P3D
CALSCALE:GREGORIAN
BEGIN:VEVENT
DTSTART:20201029T213000Z
DTEND:20201029T233000Z
X-MICROSOFT-CDO-ALLDAYEVENT:FALSE
SUMMARY:Stained Glass Ornament Workshop
DESCRIPTION:Practice the art of stained glass with an easy ornament project. You will make 3 ornaments\, either round\, tree\, or bulb shape to take home and enjoy. Beginners welcome. Ages 12+ Instructor: Connie Fritz
X-ALT-DESC;FMTTYPE=text/html:Practice the art of stained glass with an easy ornament project. You will make 3 ornaments\, either round\, tree\, or bulb shape to take home and enjoy. Beginners welcome. Ages 12+ Instructor: Connie Fritz
LOCATION:Colquitt County Arts Center 401 7th Avenue S.W. Moultrie\, GA 31768
UID:e.570.11215
SEQUENCE:3
DTSTAMP:20260424T190659Z
URL:http://business.moultriechamber.com/events/details/stained-glass-ornament-workshop-10-29-2020-11215
END:VEVENT

END:VCALENDAR
