BEGIN:VCALENDAR
VERSION:2.0
PRODID:-//ChamberMaster//Event Calendar 2.0//EN
METHOD:PUBLISH
X-PUBLISHED-TTL:P3D
REFRESH-INTERVAL:P3D
CALSCALE:GREGORIAN
BEGIN:VEVENT
DTSTART:20200225T230000Z
DTEND:20200226T003000Z
X-MICROSOFT-CDO-ALLDAYEVENT:FALSE
SUMMARY:Stained Glass Angel Workshop
DESCRIPTION:Come and try your hand at this beautiful art discipline. All first time participants will make a small angel to learn how to cut glass\, grind and foil and finally solder to complete the piece. If the process is something you want to continue to enjoy\, you can participate in our open studio each Tuesday evening and create a piece of your choice from a set of beginner pattern options for only $25 month plus your cost of foil and solder. All tools are at your disposal.
X-ALT-DESC;FMTTYPE=text/html:Come and try your hand at this beautiful art discipline. All first time participants will make a small angel to learn how to cut glass\, grind and foil and finally solder to complete the piece. If the process is something you want to continue to enjoy\, you can participate in our open studio each Tuesday evening and create a piece of your choice from a set of beginner pattern options for only $25 month plus your cost of foil and solder. All tools are at your disposal.
LOCATION:Colquitt County Arts Center 401 7th Avenue S.W. Moultrie\, GA 31768
UID:e.570.11149
SEQUENCE:3
DTSTAMP:20260425T040524Z
URL:http://business.moultriechamber.com/events/details/stained-glass-angel-workshop-11149
END:VEVENT

END:VCALENDAR
