BEGIN:VCALENDAR
VERSION:2.0
PRODID:-//ChamberMaster//Event Calendar 2.0//EN
METHOD:PUBLISH
X-PUBLISHED-TTL:P3D
REFRESH-INTERVAL:P3D
CALSCALE:GREGORIAN
BEGIN:VEVENT
DTSTART:20210409T143000Z
DTEND:20210409T150000Z
X-MICROSOFT-CDO-ALLDAYEVENT:FALSE
SUMMARY:Spring StoryTime @ Bert Harsh Park
DESCRIPTION:Meet Ms. Erin in the Bert Harsh Park (next to the Moultrie Library parking lot) for an outdoor\, socially distanced storytime each Friday in April! Bring your own chairs/blankets and we'll sit under the big shade tree to share stories\, songs\, and activities. Recommended for ages 2-5 with parent/caregiver.
X-ALT-DESC;FMTTYPE=text/html:Meet Ms. Erin in the Bert Harsh Park (next to the Moultrie Library parking lot) for an outdoor\, socially distanced storytime each Friday in April! Bring your own chairs/blankets and we&#39\;ll sit under the big shade tree to share stories\, songs\, and activities. Recommended for ages 2-5 with parent/caregiver.
LOCATION:204 5th St\, SE\, Moultrie\, GA 31768 Next to the library's parking lot.
UID:e.570.11340
SEQUENCE:3
DTSTAMP:20260424T113220Z
URL:http://business.moultriechamber.com/events/details/spring-storytime-bert-harsh-park-04-09-2021-11340
END:VEVENT

END:VCALENDAR
