BEGIN:VCALENDAR
VERSION:2.0
PRODID:-//ChamberMaster//Event Calendar 2.0//EN
METHOD:PUBLISH
X-PUBLISHED-TTL:P3D
REFRESH-INTERVAL:P3D
CALSCALE:GREGORIAN
BEGIN:VEVENT
DTSTART:20220415T233000Z
DTEND:20220416T200000Z
X-MICROSOFT-CDO-ALLDAYEVENT:FALSE
SUMMARY:Spring Fling and Backyard BBQ Festival
DESCRIPTION:The Spring Fling & Backyard BBQ Festival is a community festival held in Downtown Moultrie. Friday's kick-off concert on April 15th\, 2022\, will feature the Swingin' Medallions starting at 7:30pm-9:30pm. On Saturday\, April 16th\, 2022\, dozens of vendors will be set up around the square from 9:00am-4:00pm!
X-ALT-DESC;FMTTYPE=text/html:The Spring Fling &amp\; Backyard BBQ Festival is a community festival held in Downtown Moultrie. Friday&#39\;s kick-off concert on April 15th\, 2022\, will feature the Swingin&#39\; Medallions starting at 7:30pm-9:30pm. On Saturday\, April 16th\, 2022\, dozens of vendors will be set up around the square from 9:00am-4:00pm!
LOCATION:Downtown Moultrie
UID:e.570.12017
SEQUENCE:3
DTSTAMP:20260423T195153Z
URL:http://business.moultriechamber.com/events/details/spring-fling-and-backyard-bbq-festival-12017
END:VEVENT

END:VCALENDAR
