BEGIN:VCALENDAR
VERSION:2.0
PRODID:-//ChamberMaster//Event Calendar 2.0//EN
METHOD:PUBLISH
X-PUBLISHED-TTL:P3D
REFRESH-INTERVAL:P3D
CALSCALE:GREGORIAN
BEGIN:VEVENT
DTSTART:20210405T120000Z
DTEND:20210409T200000Z
X-MICROSOFT-CDO-ALLDAYEVENT:FALSE
SUMMARY:Spring Break Art Camp
DESCRIPTION:Come join us for an awesome week of painting\, drawing\, skit writing and performing! We'll be social distancing and creating all week! You don't want to miss this! Grades 2nd - 6th  Bring a packed lunch Instructor Lennie Flowers
X-ALT-DESC;FMTTYPE=text/html:Come join us for an awesome week of painting\, drawing\, skit writing and performing! We&rsquo\;ll be social distancing and creating all week! You don&rsquo\;t want to miss this! Grades 2nd - 6th&nbsp\; Bring a packed lunch Instructor Lennie Flowers
LOCATION:Colquitt County Arts Center 401 7th Avenue S.W. Moultrie\, GA 31768
UID:e.570.11334
SEQUENCE:3
DTSTAMP:20260424T102029Z
URL:http://business.moultriechamber.com/events/details/spring-break-art-camp-04-05-2021-11334
END:VEVENT

END:VCALENDAR
