BEGIN:VCALENDAR
VERSION:2.0
PRODID:-//ChamberMaster//Event Calendar 2.0//EN
METHOD:PUBLISH
X-PUBLISHED-TTL:P3D
REFRESH-INTERVAL:P3D
CALSCALE:GREGORIAN
BEGIN:VEVENT
DTSTART:20181025T230000Z
DTEND:20181026T010000Z
X-MICROSOFT-CDO-ALLDAYEVENT:FALSE
SUMMARY:Sports Hall of Fame
DESCRIPTION:Sports Hall of Fame in the Colquitt County High School cafeteria.
X-ALT-DESC;FMTTYPE=text/html:Sports Hall of Fame in the Colquitt County High School cafeteria.
LOCATION:CCHS Cafeteria
UID:e.570.9328
SEQUENCE:3
DTSTAMP:20260426T005642Z
URL:http://business.moultriechamber.com/events/details/sports-hall-of-fame-9328
END:VEVENT

END:VCALENDAR
