BEGIN:VCALENDAR
VERSION:2.0
PRODID:-//ChamberMaster//Event Calendar 2.0//EN
METHOD:PUBLISH
X-PUBLISHED-TTL:P3D
REFRESH-INTERVAL:P3D
CALSCALE:GREGORIAN
BEGIN:VEVENT
DTSTART:20210510T220000Z
DTEND:20210511T000000Z
X-MICROSOFT-CDO-ALLDAYEVENT:FALSE
SUMMARY:SPLASH Paint & Sip: Cowboy Boots and Flowers
DESCRIPTION:Get ready for a unique and memorable experience with new SPLASH Paint & Sip workshops! The Colquitt County Arts Center has teamed up with The Square Restaurant downtown to bring you tons of fun in their dining room. All participants will enjoy one glass of wine\, cheese\, fruit\, and instruction from Rio Davies.
X-ALT-DESC;FMTTYPE=text/html:Get ready for a unique and memorable experience with new SPLASH Paint &amp\; Sip workshops! The Colquitt County Arts Center has teamed up with The Square Restaurant downtown to bring you tons of fun in their dining room. All participants will enjoy one glass of wine\, cheese\, fruit\, and instruction from Rio Davies.
LOCATION:The Square Restaurant downtown 25 1st St SE\, Moultrie\, GA 31768
UID:e.570.11403
SEQUENCE:3
DTSTAMP:20260424T090931Z
URL:http://business.moultriechamber.com/events/details/splash-paint-sip-cowboy-boots-and-flowers-11403
END:VEVENT

END:VCALENDAR
