BEGIN:VCALENDAR
VERSION:2.0
PRODID:-//ChamberMaster//Event Calendar 2.0//EN
METHOD:PUBLISH
X-PUBLISHED-TTL:P3D
REFRESH-INTERVAL:P3D
CALSCALE:GREGORIAN
BEGIN:VEVENT
DTSTART:20201214T230000Z
DTEND:20201215T010000Z
X-MICROSOFT-CDO-ALLDAYEVENT:FALSE
SUMMARY:SPLASH Paint & Sip
DESCRIPTION:This Workshop will take place at The Square Restaurant downtown. Bring a friend and paint a winter scene under the guidance of art instructor Rio Davies. Age 21+ Brought to you by the Colquitt County Arts Center
X-ALT-DESC;FMTTYPE=text/html:This Workshop will take place at The Square Restaurant downtown. Bring a friend and paint a winter scene under the guidance of art instructor Rio Davies. Age 21+ Brought to you by the Colquitt County Arts Center
LOCATION:The Square Restaurant downtown 25 1st St SE Moultrie\, GA 31768
UID:e.570.11257
SEQUENCE:3
DTSTAMP:20260424T152032Z
URL:http://business.moultriechamber.com/events/details/splash-paint-sip-12-14-2020-11257
END:VEVENT

END:VCALENDAR
