BEGIN:VCALENDAR
VERSION:2.0
PRODID:-//ChamberMaster//Event Calendar 2.0//EN
METHOD:PUBLISH
X-PUBLISHED-TTL:P3D
REFRESH-INTERVAL:P3D
CALSCALE:GREGORIAN
BEGIN:VEVENT
DTSTART:20220508T200000Z
DTEND:20220508T230000Z
X-MICROSOFT-CDO-ALLDAYEVENT:FALSE
SUMMARY:Splash Pad Public Hours
DESCRIPTION:Opens every Tuesday\, Thursday\, Saturday & Sunday From 4-7pm Beginning April 2nd to May 26th
X-ALT-DESC;FMTTYPE=text/html:Opens every Tuesday\, Thursday\, Saturday &amp\; Sunday From 4-7pm Beginning April 2nd to May 26th
LOCATION:Splash Pad
UID:e.570.12061
SEQUENCE:3
DTSTAMP:20260423T193849Z
URL:http://business.moultriechamber.com/events/details/splash-pad-public-hours-05-08-2022-12061
END:VEVENT

END:VCALENDAR
