BEGIN:VCALENDAR
VERSION:2.0
PRODID:-//ChamberMaster//Event Calendar 2.0//EN
METHOD:PUBLISH
X-PUBLISHED-TTL:P3D
REFRESH-INTERVAL:P3D
CALSCALE:GREGORIAN
BEGIN:VEVENT
DTSTART:20210727T150000Z
DTEND:20210727T160000Z
X-MICROSOFT-CDO-ALLDAYEVENT:FALSE
SUMMARY:Spider Man at Main Street Park
DESCRIPTION:Come HANG with Spiderman!
X-ALT-DESC;FMTTYPE=text/html:Come HANG with Spiderman!
LOCATION:Main Street Park
UID:e.570.11448
SEQUENCE:3
DTSTAMP:20260424T065643Z
URL:http://business.moultriechamber.com/events/details/spider-man-at-main-street-park-11448
END:VEVENT

END:VCALENDAR
