BEGIN:VCALENDAR
VERSION:2.0
PRODID:-//ChamberMaster//Event Calendar 2.0//EN
METHOD:PUBLISH
X-PUBLISHED-TTL:P3D
REFRESH-INTERVAL:P3D
CALSCALE:GREGORIAN
BEGIN:VEVENT
DTSTART:20190608T230000Z
DTEND:20190609T003000Z
X-MICROSOFT-CDO-ALLDAYEVENT:FALSE
SUMMARY:Southern Art Music Ensemble Concert
DESCRIPTION:Saturday\, June 8th at 7:00 pm Tickets $15 (Available to purchase at the Arts Center) An evening of smooth jazz and cool jazz featuring jazz standards and original compositions. Take refuge from the heat of the world and enjoy the evening.
X-ALT-DESC;FMTTYPE=text/html:Saturday\, June 8th at 7:00 pm Tickets $15 (Available to purchase at the Arts Center) An evening of smooth jazz and cool jazz featuring jazz standards and original compositions. Take refuge from the heat of the world and enjoy the evening.
LOCATION:407 7th Ave. SW
UID:e.570.9559
SEQUENCE:3
DTSTAMP:20260425T140943Z
URL:http://business.moultriechamber.com/events/details/southern-art-music-ensemble-concert-9559
END:VEVENT

END:VCALENDAR
