BEGIN:VCALENDAR
VERSION:2.0
PRODID:-//ChamberMaster//Event Calendar 2.0//EN
METHOD:PUBLISH
X-PUBLISHED-TTL:P3D
REFRESH-INTERVAL:P3D
CALSCALE:GREGORIAN
BEGIN:VEVENT
DTSTART:20180824T230000Z
DTEND:20180825T010000Z
X-MICROSOFT-CDO-ALLDAYEVENT:FALSE
SUMMARY:SouthBound-Sopchoppy Opera Band
DESCRIPTION:The South Bound band was under the capable leadership of Herman "Mac" McWaters from July 2000 until 2010. Since then Reggie Bradley has been the Musical Coordinator and Bass Guitar player for the South Bound band. It's been our goal from the start to be the best band and produce the best country music possible\, says Mac.
X-ALT-DESC;FMTTYPE=text/html:The South Bound band was under the capable leadership of Herman &ldquo\;Mac&rdquo\; McWaters from July 2000 until 2010. Since then Reggie Bradley has been the Musical Coordinator and Bass Guitar player for the South Bound band. It&rsquo\;s been our goal from the start to be the best band and produce the best country music possible\, says Mac.
LOCATION:Colquitt County Arts Center
UID:e.570.9306
SEQUENCE:3
DTSTAMP:20260426T032324Z
URL:http://business.moultriechamber.com/events/details/southbound-sopchoppy-opera-band-9306
END:VEVENT

END:VCALENDAR
