BEGIN:VCALENDAR
VERSION:2.0
PRODID:-//ChamberMaster//Event Calendar 2.0//EN
METHOD:PUBLISH
X-PUBLISHED-TTL:P3D
REFRESH-INTERVAL:P3D
CALSCALE:GREGORIAN
BEGIN:VEVENT
DTSTART:20181007T190000Z
DTEND:20181007T210000Z
X-MICROSOFT-CDO-ALLDAYEVENT:FALSE
SUMMARY:South Georgia Opera-La Boheme
DESCRIPTION:The Colquitt County High School A Capella Choir will serve as the chorus for this beautiful production. La boh me (pronounced\, "La bo-EM") is an Italian opera in four acts. The music was written by Giacomo Puccini. The libretto was written by Luigi Illica and Giuseppe Giacosa. The opera tells the story of a love affair between a poor poet and an equally poor seamstress in 19th century Paris.
X-ALT-DESC;FMTTYPE=text/html:The Colquitt County High School A Capella Choir will serve as the chorus for this beautiful production. La boh&egrave\;me (pronounced\, &quot\;La bo-EM&quot\;) is an Italian opera in four acts. The music was written by Giacomo Puccini. The libretto was written by Luigi Illica and Giuseppe Giacosa. The opera tells the story of a love affair between a poor poet and an equally poor seamstress in 19th century Paris.
LOCATION:Withers Auditorium
UID:e.570.9310
SEQUENCE:3
DTSTAMP:20260426T005236Z
URL:http://business.moultriechamber.com/events/details/south-georgia-opera-la-boheme-9310
END:VEVENT

END:VCALENDAR
