BEGIN:VCALENDAR
VERSION:2.0
PRODID:-//ChamberMaster//Event Calendar 2.0//EN
METHOD:PUBLISH
X-PUBLISHED-TTL:P3D
REFRESH-INTERVAL:P3D
CALSCALE:GREGORIAN
BEGIN:VEVENT
DTSTART:20200224T230000Z
DTEND:20200225T003000Z
X-MICROSOFT-CDO-ALLDAYEVENT:FALSE
SUMMARY:Songwriter's Round Table
DESCRIPTION:Calling all songwriters- come and share your songs and stories with others\, share advice and get helpful support.
X-ALT-DESC;FMTTYPE=text/html:Calling all songwriters- come and share your songs and stories with others\, share advice and get helpful support.
LOCATION:Colquitt County Arts Center 401 Seventh Ave SW Moultrie\, GA
UID:e.570.11142
SEQUENCE:3
DTSTAMP:20260425T040545Z
URL:http://business.moultriechamber.com/events/details/songwriter-s-round-table-11142
END:VEVENT

END:VCALENDAR
