BEGIN:VCALENDAR
VERSION:2.0
PRODID:-//ChamberMaster//Event Calendar 2.0//EN
METHOD:PUBLISH
X-PUBLISHED-TTL:P3D
REFRESH-INTERVAL:P3D
CALSCALE:GREGORIAN
BEGIN:VEVENT
DTSTART:20220625T120000Z
DTEND:20220626T035500Z
X-MICROSOFT-CDO-ALLDAYEVENT:FALSE
SUMMARY:Softball Tournament Fundraiser
DESCRIPTION:N E W D A T E\n\nSAT.\, JUNE 25th\, 2022\n\nFUNDRAISER TOURNAMENT\n\nHOLLY HOBBS PARK in PAVO\, GA\n\nPHH Reaper Mr. Floyd Shattles has asked for our assistance in helping him host a slow pitch softball tournament to raise money for his lifelong friend\, Mr. David Quill. David is a 45 year old husband\, father\, and grandfather who was diagnosed with stage 4 lung cancer. David has always had a passion for softball. He loves the Braves & Bulldogs. He is a skilled construction worker\, but his career has been cut short due to his condition. He and his family are facing the hardships of his diagnosis and our wish is to help lift some of this burden. To help you don't need to do anything but COME watch\, eat\, & buy raffle tickets for the cause. Concessions will be provided by Pavo Haunted House. 100% of all proceeds/donations from the tournament\, concessions\, raffles\, etc.\, will be given to the Quill Family. *THANK YOU Mayor Marvin Bryan & City of Pavo for allowing this at Holly Hobbs Park.* *Please contact Jessie Burgess Moore @ 229-921-1267 for all team entries. *Business Donation Items for raffle are welcome. Items will be added as they come in. Thank you sincerely to those who have given already.\n\nPLEASE SHARE! THANK YOU\n\nTHIS SAME DAY there is a "Luau" Community/Family Dance 6PM - 10PM & all are invited to stay & dance
X-ALT-DESC;FMTTYPE=text/html:N E W D A T E<br />\nSAT.\, JUNE 25th\, 2022<br />\nFUNDRAISER TOURNAMENT<br />\nHOLLY HOBBS PARK in PAVO\, GA<br />\nPHH Reaper Mr. Floyd Shattles has asked for our assistance in helping him host a slow pitch softball tournament to raise money for his lifelong friend\, Mr. David Quill. David is a 45 year old husband\, father\, and grandfather who was diagnosed with stage 4 lung cancer. David has always had a passion for softball. He loves the Braves &amp\; Bulldogs. He is a skilled construction worker\, but his career has been cut short due to his condition. He and his family are facing the hardships of his diagnosis and our wish is to help lift some of this burden. To help you don&rsquo\;t need to do anything but COME watch\, eat\, &amp\; buy raffle tickets for the cause. Concessions will be provided by Pavo Haunted House. 100% of all proceeds/donations from the tournament\, concessions\, raffles\, etc.\, will be given to the Quill Family. *THANK YOU Mayor Marvin Bryan &amp\; City of Pavo for allowing this at Holly Hobbs Park.* *Please contact Jessie Burgess Moore @ 229-921-1267 for all team entries. *Business Donation Items for raffle are welcome. Items will be added as they come in. Thank you sincerely to those who have given already.<br />\nPLEASE SHARE! THANK YOU<br />\nTHIS SAME DAY there is a &ldquo\;Luau&rdquo\; Community/Family Dance 6PM - 10PM &amp\; all are invited to stay &amp\; dance
LOCATION:2061 W McDonald St Pavo\, GA 31778
UID:e.570.12953
SEQUENCE:3
DTSTAMP:20260423T165727Z
URL:http://business.moultriechamber.com/events/details/softball-tournament-fundraiser-12953
END:VEVENT

END:VCALENDAR
