BEGIN:VCALENDAR
VERSION:2.0
PRODID:-//ChamberMaster//Event Calendar 2.0//EN
METHOD:PUBLISH
X-PUBLISHED-TTL:P3D
REFRESH-INTERVAL:P3D
CALSCALE:GREGORIAN
BEGIN:VEVENT
DTSTART:20210729T140000Z
DTEND:20210729T150000Z
X-MICROSOFT-CDO-ALLDAYEVENT:FALSE
SUMMARY:Smokey the Bear
DESCRIPTION:Come learn about fire safety with Smokey!
X-ALT-DESC;FMTTYPE=text/html:Come learn about fire safety with Smokey!
LOCATION:Ryce Community Center
UID:e.570.11449
SEQUENCE:3
DTSTAMP:20260424T065208Z
URL:http://business.moultriechamber.com/events/details/smokey-the-bear-07-29-2021-11449
END:VEVENT

END:VCALENDAR
