BEGIN:VCALENDAR
VERSION:2.0
PRODID:-//ChamberMaster//Event Calendar 2.0//EN
METHOD:PUBLISH
X-PUBLISHED-TTL:P3D
REFRESH-INTERVAL:P3D
CALSCALE:GREGORIAN
BEGIN:VEVENT
DTSTART:20210126T213000Z
DTEND:20210126T223000Z
X-MICROSOFT-CDO-ALLDAYEVENT:FALSE
SUMMARY:Sketch Artists Workshop
DESCRIPTION:Learning the skill of free sketching is exciting. This workshop is great for anyone interested in sketching the world around them. No perfection is necessary. Learn the basics of drawing and how to apply them to your daily life. Instructor Rio Davies Tuesday\, January 26th 4:30pm   5:30pm Ages 12+ $40 supplies are included but please bring anything that you may want to aide in your drawing
X-ALT-DESC;FMTTYPE=text/html:Learning the skill of free sketching is exciting. This workshop is great for anyone interested in sketching the world around them. No perfection is necessary. Learn the basics of drawing and how to apply them to your daily life. Instructor Rio Davies Tuesday\, January 26th 4:30pm &ndash\; 5:30pm Ages 12+ $40 supplies are included but please bring anything that you may want to aide in your drawing
LOCATION:Colquitt County Arts Center 401 7th Avenue S.W. Moultrie\, GA 31768
UID:e.570.11293
SEQUENCE:3
DTSTAMP:20260424T140628Z
URL:http://business.moultriechamber.com/events/details/sketch-artists-workshop-11293
END:VEVENT

END:VCALENDAR
