BEGIN:VCALENDAR
VERSION:2.0
PRODID:-//ChamberMaster//Event Calendar 2.0//EN
METHOD:PUBLISH
X-PUBLISHED-TTL:P3D
REFRESH-INTERVAL:P3D
CALSCALE:GREGORIAN
BEGIN:VEVENT
DTSTART:20181110T150000Z
DTEND:20181110T220000Z
X-MICROSOFT-CDO-ALLDAYEVENT:FALSE
SUMMARY:Sidewalk Sale
DESCRIPTION:Visit Downtown Moultrie & shop participating merchants. Enjoy Great Deals and Savings. Bring the Kids & visit with First Responders from 11 am to 2 pm. Police - Sheriff - Fire - Ems - Face Painting -Slide - Bounce House
X-ALT-DESC;FMTTYPE=text/html:Visit Downtown Moultrie &amp\; shop participating merchants. Enjoy Great Deals and Savings. Bring the Kids &amp\; visit with First Responders from 11 am to 2 pm. Police - Sheriff - Fire - Ems - Face Painting -Slide - Bounce House
LOCATION:Downtown Moultrie
UID:e.570.9453
SEQUENCE:3
DTSTAMP:20260425T232858Z
URL:http://business.moultriechamber.com/events/details/sidewalk-sale-9453
END:VEVENT

END:VCALENDAR
