BEGIN:VCALENDAR
VERSION:2.0
PRODID:-//ChamberMaster//Event Calendar 2.0//EN
METHOD:PUBLISH
X-PUBLISHED-TTL:P3D
REFRESH-INTERVAL:P3D
CALSCALE:GREGORIAN
BEGIN:VEVENT
DTSTART:20190829T213000Z
DTEND:20190829T230000Z
X-MICROSOFT-CDO-ALLDAYEVENT:FALSE
SUMMARY:Shrek\, Jr. Auditions
DESCRIPTION:Auditions open to Middle/Jr. Sr. High Auditions: Thursday\, August 29th 5:30 pm   7:00 pm Performances: Oct 24th\, 26th\, 27th School Performances: Friday\, October 25th Director: Lennie Flowers Once upon a time\, in a far away swamp\, there lived an ogre named Shrek. One day\, Shrek finds his swamp invaded by banished fairytale misfits who have been cast off by Lord Farquaad\, a tiny terror with big ambitions. When Shrek sets off with a wisecracking donkey to confront Farquaad\, he's handed a task   if he rescues feisty princess Fiona\, his swamp will be righted. Shrek tries to win Fiona's love and vanquish Lord Farquaad\, but a fairytale wouldn't be complete without a few twists and turns along the way.
X-ALT-DESC;FMTTYPE=text/html:Auditions open to Middle/Jr. Sr. High Auditions: Thursday\, August 29th 5:30 pm &ndash\; 7:00 pm Performances: Oct 24th\, 26th\, 27th School Performances: Friday\, October 25th Director: Lennie Flowers Once upon a time\, in a far away swamp\, there lived an ogre named Shrek. One day\, Shrek finds his swamp invaded by banished fairytale misfits who have been cast off by Lord Farquaad\, a tiny terror with big ambitions. When Shrek sets off with a wisecracking donkey to confront Farquaad\, he&rsquo\;s handed a task &mdash\; if he rescues feisty princess Fiona\, his swamp will be righted. Shrek tries to win Fiona&rsquo\;s love and vanquish Lord Farquaad\, but a fairytale wouldn&rsquo\;t be complete without a few twists and turns along the way.
LOCATION:Colquitt County Arts Center 401 7th Avenue S.W. Moultrie\, GA 31768
UID:e.570.9601
SEQUENCE:3
DTSTAMP:20260425T124833Z
URL:http://business.moultriechamber.com/events/details/shrek-jr-auditions-9601
END:VEVENT

END:VCALENDAR
