BEGIN:VCALENDAR
VERSION:2.0
PRODID:-//ChamberMaster//Event Calendar 2.0//EN
METHOD:PUBLISH
X-PUBLISHED-TTL:P3D
REFRESH-INTERVAL:P3D
CALSCALE:GREGORIAN
BEGIN:VEVENT
DTSTART:20190519T180000Z
DTEND:20190519T190000Z
X-MICROSOFT-CDO-ALLDAYEVENT:FALSE
SUMMARY:Shake it Up\, Shakespeare!
DESCRIPTION:Shake it up Shakespeare! Friday & Saturday\, May 17th & 18th at 7:00 pm Sunday\, May 19th at 2:00 pm Tickets $10 School Performances Friday\, May 17th at 9:00 am & 11:30 am Directed by Lennie Flowers Your favorite Shakespeare pieces with a fun musical spin. Featuring pieces from a Midsummer nights dream\, Romeo and Juliet and more! Also featuring fun classic songs such as: "I'm a Believer" and "Do you believe in magic" Works will be brought together by Director Lennie Flowers and the cast!
X-ALT-DESC;FMTTYPE=text/html:Shake it up Shakespeare! Friday &amp\; Saturday\, May 17th &amp\; 18th at 7:00 pm Sunday\, May 19th at 2:00 pm Tickets $10 School Performances Friday\, May 17th at 9:00 am &amp\; 11:30 am Directed by Lennie Flowers Your favorite Shakespeare pieces with a fun musical spin. Featuring pieces from a Midsummer nights dream\, Romeo and Juliet and more! Also featuring fun classic songs such as: &ldquo\;I&rsquo\;m a Believer&rdquo\; and &ldquo\;Do you believe in magic&rdquo\; Works will be brought together by Director Lennie Flowers and the cast!
LOCATION:Colquitt County Arts Center 401 7th Ave. SW
UID:e.570.9539
SEQUENCE:3
DTSTAMP:20260425T152902Z
URL:http://business.moultriechamber.com/events/details/shake-it-up-shakespeare-05-19-2019-9539
END:VEVENT

END:VCALENDAR
