BEGIN:VCALENDAR
VERSION:2.0
PRODID:-//ChamberMaster//Event Calendar 2.0//EN
METHOD:PUBLISH
X-PUBLISHED-TTL:P3D
REFRESH-INTERVAL:P3D
CALSCALE:GREGORIAN
BEGIN:VEVENT
DTSTART:20210528T210000Z
DTEND:20210529T010000Z
X-MICROSOFT-CDO-ALLDAYEVENT:FALSE
SUMMARY:Seventh Day Slumber Concert
DESCRIPTION:Rocco's Italian Street Food will be set up outside. Dem Boys Ministries will be hosting corn hole at 5pm. Seventh Day Slumber will begin playing at 6:30pm Free concert. Love offering optional.
X-ALT-DESC;FMTTYPE=text/html:Rocco&rsquo\;s Italian Street Food will be set up outside. Dem Boys Ministries will be hosting corn hole at 5pm. Seventh Day Slumber will begin playing at 6:30pm Free concert. Love offering optional.
LOCATION:Heritage Church South Venue
UID:e.570.11429
SEQUENCE:3
DTSTAMP:20260424T091045Z
URL:http://business.moultriechamber.com/events/details/seventh-day-slumber-concert-11429
END:VEVENT

END:VCALENDAR
